BEGIN:VCALENDAR
PRODID:-//Microsoft Corporation//Outlook 12.0 MIMEDIR//EN
VERSION:2.0
CALSCALE:GREGORIAN
BEGIN:VEVENT
UID: 499d31db-a48a-4563-bac7-35715804e9d8
SUMMARY:Emadepäeva kontsert
DTSTAMP:20250508T170000
DTSTART:20250508T170000
DTEND:20250508T183000
LOCATION:
DESCRIPTION: <p><strong>Link: </strong>https://www.vara.edu.ee/et/sundmuste-kalender/emadepaeva-kontsert</p><p><strong>Hind: </strong></p>
STATUS:CONFIRMED
SEQUENCE:3
X-ALT-DESC;FMTTYPE=text/html:<p><strong>Link: </strong>https://www.vara.edu.ee/et/sundmuste-kalender/emadepaeva-kontsert</p><p><strong>Hind: </strong></p>
X-MICROSOFT-CDO-BUSYSTATUS:OOF
X-MICROSOFT-CDO-IMPORTANCE:1
X-MICROSOFT-DISALLOW-COUNTER:FALSE
X-MS-OLK-ALLOWEXTERNCHECK:TRUE
X-MS-OLK-CONFTYPE:0
X-MICROSOFT-CDO-ALLDAYEVENT:
X-MICROSOFT-MSNCALENDAR-ALLDAYEVENT:
END:VEVENT
END:VCALENDAR