BEGIN:VCALENDAR
PRODID:-//Microsoft Corporation//Outlook 12.0 MIMEDIR//EN
VERSION:2.0
CALSCALE:GREGORIAN
BEGIN:VEVENT
UID: dfd25ac7-a7e3-4087-9b63-c8c21ec2003c
SUMMARY:1.-8. klasside lõpuaktus
DTSTAMP:20260609
DTSTART:20260609
DTEND:20260610
DURATION:P1D
LOCATION:Aula
DESCRIPTION: <p><strong>Link: </strong>https://www.vara.edu.ee/et/sundmuste-kalender/1-8-klasside-lopuaktus</p><p><strong>Hind: </strong></p>
STATUS:CONFIRMED
SEQUENCE:3
X-ALT-DESC;FMTTYPE=text/html:<p><strong>Link: </strong>https://www.vara.edu.ee/et/sundmuste-kalender/1-8-klasside-lopuaktus</p><p><strong>Hind: </strong></p>
X-MICROSOFT-CDO-BUSYSTATUS:OOF
X-MICROSOFT-CDO-IMPORTANCE:1
X-MICROSOFT-DISALLOW-COUNTER:FALSE
X-MS-OLK-ALLOWEXTERNCHECK:TRUE
X-MS-OLK-CONFTYPE:0
X-MICROSOFT-CDO-ALLDAYEVENT:1
X-MICROSOFT-MSNCALENDAR-ALLDAYEVENT:1
END:VEVENT
END:VCALENDAR